Workbook

Sheet Totaal
B1: Kosten | C1: Subsidiabel
A2: Naam instelling: | E2: Toelichting
A3: Totale projectkosten: | B3: =SUM(B5:B19) -> 0 | C3: =SUM(C5:C19) -> 0 | E3: Totaal van de kosten voor alle opleidingsprojecten. Onder artikel 31 van de AGVV wordt 50% van de projectkosten gesubsidieerd. Dat zijn de subsidiabele kosten.
A5: Opleidingsproject 1 | B5: ='Opleidingsproject 1 '!I220 -> 0 | C5: =B5*0.5 -> 0 | E5: Totaal van de kosten van opleidingsproject 1
A6: Opleidingsproject 2 | B6: ='Opleidingsproject 2'!H220 -> 0 | C6: =B6*0.5 -> 0 | E6: Totaal van de kosten van opleidingsproject 2
A7: Opleidingsproject 3 | B7: ='Opleidingsproject 3'!H220 -> 0 | C7: =B7*0.5 -> 0 | E7: Totaal van de kosten van opleidingsproject 3
A8: Opleidingsproject 4 | B8: ='Opleidingsproject 4'!H220 -> 0 | C8: =B8*0.5 -> 0 | E8: Totaal van de kosten van opleidingsproject 4
A9: Opleidingsproject 5 | B9: ='Opleidingsproject 6'!H220 -> 0 | C9: =B9*0.5 -> 0 | E9: Totaal van de kosten van opleidingsproject 5
A10: Opleidingsproject 6 | B10: ='Opleidingsproject 6'!H220 -> 0 | C10: =B10*0.5 -> 0 | E10: Totaal van de kosten van opleidingsproject 6
A11: Opleidingsproject 7 | B11: ='Opleidingsproject 7'!H220 -> 0 | C11: =B11*0.5 -> 0 | E11: Totaal van de kosten van opleidingsproject 7
A12: Opleidingsproject 8 | B12: ='Opleidingsproject 8'!H220 -> 0 | C12: =B12*0.5 -> 0 | E12: Totaal van de kosten van opleidingsproject 8
A13: Opleidingsproject 9 | B13: ='Opleidingsproject 9'!H220 -> 0 | C13: =B13*0.5 -> 0 | E13: Totaal van de kosten van opleidingsproject 9
A14: Opleidingsproject 10 | B14: ='Opleidingsproject 10'!H220 -> 0 | C14: =B14*0.5 -> 0 | E14: Totaal van de kosten van opleidingsproject 10
A15: Opleidingsproject 11 | B15: ='Opleidingsproject 11'!H220 -> 0 | C15: =B15*0.5 -> 0 | E15: Totaal van de kosten van opleidingsproject 11
A16: Opleidingsproject 12 | B16: ='Opleidingsproject 12'!H220 -> 0 | C16: =B16*0.5 -> 0 | E16: Totaal van de kosten van opleidingsproject 12
A17: Opleidingsproject 13 | B17: ='Opleidingsproject 13'!H220 -> 0 | C17: =B17*0.5 -> 0 | E17: Totaal van de kosten van opleidingsproject 13
A18: Opleidingsproject 14 | B18: ='Opleidingsproject 14'!H220 -> 0 | C18: =B18*0.5 -> 0 | E18: Totaal van de kosten van opleidingsproject 14
A19: Opleidingsproject 15 | B19: ='Opleidingsproject 15'!H220 -> 0 | C19: =B19*0.5 -> 0 | E19: Totaal van de kosten van opleidingsproject 15

Sheet Opleidingsproject 1 
A1: OPLEIDINGSPROJECT 1
A2: Naam activiteit | B2: Activiteit 1 | C2: Kostensoort | D2: Salarisschaal + eventueel trede (in het geval van personeelskosten) | E2: Omschrijving eenheid (uurtarief etc.) | F2: Aantal (deelnemers, zalen etc.) | G2: Aantal uren | H2: Kosten per eenheid (uurtarief etc.) | I2: Totale kosten
B3: subactiviteit
B4: 1.a | I4: =H4*F4*G4 -> 0
B5: 1.b. | I5: =H5*F5*G5 -> 0
I6: =H6*F6*G6 -> 0
I7: =H7*F7*G7 -> 0
I8: =H8*F8*G8 -> 0
I9: =H9*F9*G9 -> 0
I10: =H10*F10*G10 -> 0
I11: =H11*F11*G11 -> 0
I12: =H12*F12*G12 -> 0
I13: =H13*F13*G13 -> 0
I14: =H14*F14*G14 -> 0
I15: =H15*F15*G15 -> 0
I16: =H16*F16*G16 -> 0
I17: =H17*F17*G17 -> 0
... I19: =H19*F19*G19 -> 0
B20: subtotaal activiteit 1 | I20: =SUM(I4:I16) -> 0
A24: Naam activiteit | B24: Activiteit 2 | C24: Kostensoort | D24: Salarisschaal (in het geval van personeelskosten) | E24: Omschrijving eenheid (uurtarief etc.) | F24: Aantal (deelnemers, zalen etc.) | G24: Aantal uren | H24: Kosten per eenheid (uurtarief etc.)
B25: subactiviteit
B26: 2. a | I26: =H26*F26*G26 -> 0
B27: 2. b | I27: =H27*F27*G27 -> 0
I28: =H28*F28*G28 -> 0
I29: =H29*F29*G29 -> 0
I30: =H30*F30*G30 -> 0
I31: =H31*F31*G31 -> 0
I32: =H32*F32*G32 -> 0
I33: =H33*F33*G33 -> 0
I34: =H34*F34*G34 -> 0
I35: =H35*F35*G35 -> 0
I36: =H36*F36*G36 -> 0
I37: =H37*F37*G37 -> 0
I38: =H38*F38*G38 -> 0
I39: =H39*F39*G39 -> 0
... I41: =H41*F41*G41 -> 0
B42: subtotaal activiteit 2 | I42: =SUM(I26:I38) -> 0
A46: Naam activiteit | B46: Activiteit 3 | C46: Kostensoort | D46: Salarisschaal (in het geval van personeelskosten) | E46: Omschrijving eenheid (uurtarief etc.) | F46: Aantal (deelnemers, zalen etc.) | G46: Aantal uren | H46: Kosten per eenheid (uurtarief etc.)
B47: subactiviteit
B48: 3. a. | I48: =H48*F48*G48 -> 0
B49: 3. b. | I49: =H49*F49*G49 -> 0
I50: =H50*F50*G50 -> 0
I51: =H51*F51*G51 -> 0
I52: =H52*F52*G52 -> 0
I53: =H53*F53*G53 -> 0
I54: =H54*F54*G54 -> 0
I55: =H55*F55*G55 -> 0
I56: =H56*F56*G56 -> 0
I57: =H57*F57*G57 -> 0
I58: =H58*F58*G58 -> 0
I59: =H59*F59*G59 -> 0
I60: =H60*F60*G60 -> 0
I61: =H61*F61*G61 -> 0
... I63: =H63*F63*G63 -> 0
B64: subtotaal activiteit 3 | I64: =SUM(I48:I60) -> 0
A68: Naam activiteit | B68: Activiteit 4 | C68: Kostensoort | D68: Salarisschaal (in het geval van personeelskosten) | E68: Omschrijving eenheid (uurtarief etc.) | F68: Aantal (deelnemers, zalen etc.) | G68: Aantal uren | H68: Kosten per eenheid (uurtarief etc.)
B69: subactiviteit
B70: 4. a. | I70: =H70*F70*G70 -> 0
B71: 4. b. | I71: =H71*F71*G71 -> 0
I72: =H72*F72*G72 -> 0
I73: =H73*F73*G73 -> 0
I74: =H74*F74*G74 -> 0
I75: =H75*F75*G75 -> 0
I76: =H76*F76*G76 -> 0
I77: =H77*F77*G77 -> 0
I78: =H78*F78*G78 -> 0
I79: =H79*F79*G79 -> 0
I80: =H80*F80*G80 -> 0
I81: =H81*F81*G81 -> 0
I82: =H82*F82*G82 -> 0
I83: =H83*F83*G83 -> 0
... I85: =H85*F85*G85 -> 0
B86: subtotaal activiteit 4 | I86: =SUM(I70:I82) -> 0
A90: Naam activiteit | B90: Activiteit 5 | C90: Kostensoort | D90: Salarisschaal (in het geval van personeelskosten) | E90: Omschrijving eenheid (uurtarief etc.) | F90: Aantal (deelnemers, zalen etc.) | G90: Aantal uren | H90: Kosten per eenheid (uurtarief etc.)
B91: subactiviteit
B92: 5. a. | I92: =H92*F92*G92 -> 0
B93: 5. b. | I93: =H93*F93*G93 -> 0
I94: =H94*F94*G94 -> 0
I95: =H95*F95*G95 -> 0
I96: =H96*F96*G96 -> 0
I97: =H97*F97*G97 -> 0
I98: =H98*F98*G98 -> 0
I99: =H99*F99*G99 -> 0
I100: =H100*F100*G100 -> 0
I101: =H101*F101*G101 -> 0
I102: =H102*F102*G102 -> 0
I103: =H103*F103*G103 -> 0
I104: =H104*F104*G104 -> 0
I105: =H105*F105*G105 -> 0
... I107: =H107*F107*G107 -> 0
B108: subtotaal activiteit 5 | I108: =SUM(I92:I104) -> 0
A112: Naam activiteit | B112: Activiteit 6 | C112: Kostensoort | D112: Salarisschaal (in het geval van personeelskosten) | E112: Omschrijving eenheid (uurtarief etc.) | F112: Aantal (deelnemers, zalen etc.) | G112: Aantal uren | H112: Kosten per eenheid (uurtarief etc.)
B113: subactiviteit
B114: 6. a. | I114: =H114*F114*G114 -> 0
B115: 6. b. | I115: =H115*F115*G115 -> 0
I116: =H116*F116*G116 -> 0
I117: =H117*F117*G117 -> 0
I118: =H118*F118*G118 -> 0
I119: =H119*F119*G119 -> 0
I120: =H120*F120*G120 -> 0
...

Sheet Opleidingsproject 2
A1: OPLEIDINGSPROJECT 2
A2: Naam activiteit | B2: Activiteit 1 | C2: Kostensoort | D2: Salarisschaal + eventueel trede (in het geval van personeelskosten) | E2: Omschrijving eenheid (uurtarief etc.) | F2: Aantal (deelnemers, zalen etc.) | G2: Aantal uren | H2: Kosten per eenheid (uurtarief etc.) | I2: Totale kosten
B3: subactiviteit
B4: 1.a | I4: =H4*F4*G4 -> 0
B5: 1.b. | I5: =H5*F5*G5 -> 0
I6: =H6*F6*G6 -> 0
I7: =H7*F7*G7 -> 0
I8: =H8*F8*G8 -> 0
I9: =H9*F9*G9 -> 0
I10: =H10*F10*G10 -> 0
I11: =H11*F11*G11 -> 0
I12: =H12*F12*G12 -> 0
I13: =H13*F13*G13 -> 0
I14: =H14*F14*G14 -> 0
I15: =H15*F15*G15 -> 0
I16: =H16*F16*G16 -> 0
I17: =H17*F17*G17 -> 0
... I19: =H19*F19*G19 -> 0
B20: subtotaal activiteit 1 | I20: =SUM(I4:I16) -> 0
A24: Naam activiteit | B24: Activiteit 2 | C24: Kostensoort | D24: Salarisschaal (in het geval van personeelskosten) | E24: Omschrijving eenheid (uurtarief etc.) | F24: Aantal (deelnemers, zalen etc.) | G24: Aantal uren | H24: Kosten per eenheid (uurtarief etc.)
B25: subactiviteit
B26: 2. a | I26: =H26*F26*G26 -> 0
B27: 2. b | I27: =H27*F27*G27 -> 0
I28: =H28*F28*G28 -> 0
I29: =H29*F29*G29 -> 0
I30: =H30*F30*G30 -> 0
I31: =H31*F31*G31 -> 0
I32: =H32*F32*G32 -> 0
I33: =H33*F33*G33 -> 0
I34: =H34*F34*G34 -> 0
I35: =H35*F35*G35 -> 0
I36: =H36*F36*G36 -> 0
I37: =H37*F37*G37 -> 0
I38: =H38*F38*G38 -> 0
I39: =H39*F39*G39 -> 0
... I41: =H41*F41*G41 -> 0
B42: subtotaal activiteit 2 | I42: =SUM(I26:I38) -> 0
A46: Naam activiteit | B46: Activiteit 3 | C46: Kostensoort | D46: Salarisschaal (in het geval van personeelskosten) | E46: Omschrijving eenheid (uurtarief etc.) | F46: Aantal (deelnemers, zalen etc.) | G46: Aantal uren | H46: Kosten per eenheid (uurtarief etc.)
B47: subactiviteit
B48: 3. a. | I48: =H48*F48*G48 -> 0
B49: 3. b. | I49: =H49*F49*G49 -> 0
I50: =H50*F50*G50 -> 0
I51: =H51*F51*G51 -> 0
I52: =H52*F52*G52 -> 0
I53: =H53*F53*G53 -> 0
I54: =H54*F54*G54 -> 0
I55: =H55*F55*G55 -> 0
I56: =H56*F56*G56 -> 0
I57: =H57*F57*G57 -> 0
I58: =H58*F58*G58 -> 0
I59: =H59*F59*G59 -> 0
I60: =H60*F60*G60 -> 0
I61: =H61*F61*G61 -> 0
... I63: =H63*F63*G63 -> 0
B64: subtotaal activiteit 3 | I64: =SUM(I48:I60) -> 0
A68: Naam activiteit | B68: Activiteit 4 | C68: Kostensoort | D68: Salarisschaal (in het geval van personeelskosten) | E68: Omschrijving eenheid (uurtarief etc.) | F68: Aantal (deelnemers, zalen etc.) | G68: Aantal uren | H68: Kosten per eenheid (uurtarief etc.)
B69: subactiviteit
B70: 4. a. | I70: =H70*F70*G70 -> 0
B71: 4. b. | I71: =H71*F71*G71 -> 0
I72: =H72*F72*G72 -> 0
I73: =H73*F73*G73 -> 0
I74: =H74*F74*G74 -> 0
I75: =H75*F75*G75 -> 0
I76: =H76*F76*G76 -> 0
I77: =H77*F77*G77 -> 0
I78: =H78*F78*G78 -> 0
I79: =H79*F79*G79 -> 0
I80: =H80*F80*G80 -> 0
I81: =H81*F81*G81 -> 0
I82: =H82*F82*G82 -> 0
I83: =H83*F83*G83 -> 0
... I85: =H85*F85*G85 -> 0
B86: subtotaal activiteit 4 | I86: =SUM(I70:I82) -> 0
A90: Naam activiteit | B90: Activiteit 5 | C90: Kostensoort | D90: Salarisschaal (in het geval van personeelskosten) | E90: Omschrijving eenheid (uurtarief etc.) | F90: Aantal (deelnemers, zalen etc.) | G90: Aantal uren | H90: Kosten per eenheid (uurtarief etc.)
B91: subactiviteit
B92: 5. a. | I92: =H92*F92*G92 -> 0
B93: 5. b. | I93: =H93*F93*G93 -> 0
I94: =H94*F94*G94 -> 0
I95: =H95*F95*G95 -> 0
I96: =H96*F96*G96 -> 0
I97: =H97*F97*G97 -> 0
I98: =H98*F98*G98 -> 0
I99: =H99*F99*G99 -> 0
I100: =H100*F100*G100 -> 0
I101: =H101*F101*G101 -> 0
I102: =H102*F102*G102 -> 0
I103: =H103*F103*G103 -> 0
I104: =H104*F104*G104 -> 0
I105: =H105*F105*G105 -> 0
... I107: =H107*F107*G107 -> 0
B108: subtotaal activiteit 5 | I108: =SUM(I92:I104) -> 0
A112: Naam activiteit | B112: Activiteit 6 | C112: Kostensoort | D112: Salarisschaal (in het geval van personeelskosten) | E112: Omschrijving eenheid (uurtarief etc.) | F112: Aantal (deelnemers, zalen etc.) | G112: Aantal uren | H112: Kosten per eenheid (uurtarief etc.)
B113: subactiviteit
B114: 6. a. | I114: =H114*F114*G114 -> 0
B115: 6. b. | I115: =H115*F115*G115 -> 0
I116: =H116*F116*G116 -> 0
I117: =H117*F117*G117 -> 0
I118: =H118*F118*G118 -> 0
I119: =H119*F119*G119 -> 0
I120: =H120*F120*G120 -> 0
...

Sheet Opleidingsproject 3
A1: OPLEIDINGSPROJECT 3
A2: Naam activiteit | B2: Activiteit 1 | C2: Kostensoort | D2: Salarisschaal + eventueel trede (in het geval van personeelskosten) | E2: Omschrijving eenheid (uurtarief etc.) | F2: Aantal (deelnemers, zalen etc.) | G2: Aantal uren | H2: Kosten per eenheid (uurtarief etc.) | I2: Totale kosten
B3: subactiviteit
B4: 1.a | I4: =H4*F4*G4 -> 0
B5: 1.b. | I5: =H5*F5*G5 -> 0
I6: =H6*F6*G6 -> 0
I7: =H7*F7*G7 -> 0
I8: =H8*F8*G8 -> 0
I9: =H9*F9*G9 -> 0
I10: =H10*F10*G10 -> 0
I11: =H11*F11*G11 -> 0
I12: =H12*F12*G12 -> 0
I13: =H13*F13*G13 -> 0
I14: =H14*F14*G14 -> 0
I15: =H15*F15*G15 -> 0
I16: =H16*F16*G16 -> 0
I17: =H17*F17*G17 -> 0
... I19: =H19*F19*G19 -> 0
B20: subtotaal activiteit 1 | I20: =SUM(I4:I16) -> 0
A24: Naam activiteit | B24: Activiteit 2 | C24: Kostensoort | D24: Salarisschaal (in het geval van personeelskosten) | E24: Omschrijving eenheid (uurtarief etc.) | F24: Aantal (deelnemers, zalen etc.) | G24: Aantal uren | H24: Kosten per eenheid (uurtarief etc.)
B25: subactiviteit
B26: 2. a | I26: =H26*F26*G26 -> 0
B27: 2. b | I27: =H27*F27*G27 -> 0
I28: =H28*F28*G28 -> 0
I29: =H29*F29*G29 -> 0
I30: =H30*F30*G30 -> 0
I31: =H31*F31*G31 -> 0
I32: =H32*F32*G32 -> 0
I33: =H33*F33*G33 -> 0
I34: =H34*F34*G34 -> 0
I35: =H35*F35*G35 -> 0
I36: =H36*F36*G36 -> 0
I37: =H37*F37*G37 -> 0
I38: =H38*F38*G38 -> 0
I39: =H39*F39*G39 -> 0
... I41: =H41*F41*G41 -> 0
B42: subtotaal activiteit 2 | I42: =SUM(I26:I38) -> 0
A46: Naam activiteit | B46: Activiteit 3 | C46: Kostensoort | D46: Salarisschaal (in het geval van personeelskosten) | E46: Omschrijving eenheid (uurtarief etc.) | F46: Aantal (deelnemers, zalen etc.) | G46: Aantal uren | H46: Kosten per eenheid (uurtarief etc.)
B47: subactiviteit
B48: 3. a. | I48: =H48*F48*G48 -> 0
B49: 3. b. | I49: =H49*F49*G49 -> 0
I50: =H50*F50*G50 -> 0
I51: =H51*F51*G51 -> 0
I52: =H52*F52*G52 -> 0
I53: =H53*F53*G53 -> 0
I54: =H54*F54*G54 -> 0
I55: =H55*F55*G55 -> 0
I56: =H56*F56*G56 -> 0
I57: =H57*F57*G57 -> 0
I58: =H58*F58*G58 -> 0
I59: =H59*F59*G59 -> 0
I60: =H60*F60*G60 -> 0
I61: =H61*F61*G61 -> 0
... I63: =H63*F63*G63 -> 0
B64: subtotaal activiteit 3 | I64: =SUM(I48:I60) -> 0
A68: Naam activiteit | B68: Activiteit 4 | C68: Kostensoort | D68: Salarisschaal (in het geval van personeelskosten) | E68: Omschrijving eenheid (uurtarief etc.) | F68: Aantal (deelnemers, zalen etc.) | G68: Aantal uren | H68: Kosten per eenheid (uurtarief etc.)
B69: subactiviteit
B70: 4. a. | I70: =H70*F70*G70 -> 0
B71: 4. b. | I71: =H71*F71*G71 -> 0
I72: =H72*F72*G72 -> 0
I73: =H73*F73*G73 -> 0
I74: =H74*F74*G74 -> 0
I75: =H75*F75*G75 -> 0
I76: =H76*F76*G76 -> 0
I77: =H77*F77*G77 -> 0
I78: =H78*F78*G78 -> 0
I79: =H79*F79*G79 -> 0
I80: =H80*F80*G80 -> 0
I81: =H81*F81*G81 -> 0
I82: =H82*F82*G82 -> 0
I83: =H83*F83*G83 -> 0
... I85: =H85*F85*G85 -> 0
B86: subtotaal activiteit 4 | I86: =SUM(I70:I82) -> 0
A90: Naam activiteit | B90: Activiteit 5 | C90: Kostensoort | D90: Salarisschaal (in het geval van personeelskosten) | E90: Omschrijving eenheid (uurtarief etc.) | F90: Aantal (deelnemers, zalen etc.) | G90: Aantal uren | H90: Kosten per eenheid (uurtarief etc.)
B91: subactiviteit
B92: 5. a. | I92: =H92*F92*G92 -> 0
B93: 5. b. | I93: =H93*F93*G93 -> 0
I94: =H94*F94*G94 -> 0
I95: =H95*F95*G95 -> 0
I96: =H96*F96*G96 -> 0
I97: =H97*F97*G97 -> 0
I98: =H98*F98*G98 -> 0
I99: =H99*F99*G99 -> 0
I100: =H100*F100*G100 -> 0
I101: =H101*F101*G101 -> 0
I102: =H102*F102*G102 -> 0
I103: =H103*F103*G103 -> 0
I104: =H104*F104*G104 -> 0
I105: =H105*F105*G105 -> 0
... I107: =H107*F107*G107 -> 0
B108: subtotaal activiteit 5 | I108: =SUM(I92:I104) -> 0
A112: Naam activiteit | B112: Activiteit 6 | C112: Kostensoort | D112: Salarisschaal (in het geval van personeelskosten) | E112: Omschrijving eenheid (uurtarief etc.) | F112: Aantal (deelnemers, zalen etc.) | G112: Aantal uren | H112: Kosten per eenheid (uurtarief etc.)
B113: subactiviteit
B114: 6. a. | I114: =H114*F114*G114 -> 0
B115: 6. b. | I115: =H115*F115*G115 -> 0
I116: =H116*F116*G116 -> 0
I117: =H117*F117*G117 -> 0
I118: =H118*F118*G118 -> 0
I119: =H119*F119*G119 -> 0
I120: =H120*F120*G120 -> 0
...

Sheet Opleidingsproject 4
A1: OPLEIDINGSPROJECT 4
A2: Naam activiteit | B2: Activiteit 1 | C2: Kostensoort | D2: Salarisschaal + eventueel trede (in het geval van personeelskosten) | E2: Omschrijving eenheid (uurtarief etc.) | F2: Aantal (deelnemers, zalen etc.) | G2: Aantal uren | H2: Kosten per eenheid (uurtarief etc.) | I2: Totale kosten
B3: subactiviteit
B4: 1.a | I4: =H4*F4*G4 -> 0
B5: 1.b. | I5: =H5*F5*G5 -> 0
I6: =H6*F6*G6 -> 0
I7: =H7*F7*G7 -> 0
I8: =H8*F8*G8 -> 0
I9: =H9*F9*G9 -> 0
I10: =H10*F10*G10 -> 0
I11: =H11*F11*G11 -> 0
I12: =H12*F12*G12 -> 0
I13: =H13*F13*G13 -> 0
I14: =H14*F14*G14 -> 0
I15: =H15*F15*G15 -> 0
I16: =H16*F16*G16 -> 0
I17: =H17*F17*G17 -> 0
... I19: =H19*F19*G19 -> 0
B20: subtotaal activiteit 1 | I20: =SUM(I4:I16) -> 0
A24: Naam activiteit | B24: Activiteit 2 | C24: Kostensoort | D24: Salarisschaal (in het geval van personeelskosten) | E24: Omschrijving eenheid (uurtarief etc.) | F24: Aantal (deelnemers, zalen etc.) | G24: Aantal uren | H24: Kosten per eenheid (uurtarief etc.)
B25: subactiviteit
B26: 2. a | I26: =H26*F26*G26 -> 0
B27: 2. b | I27: =H27*F27*G27 -> 0
I28: =H28*F28*G28 -> 0
I29: =H29*F29*G29 -> 0
I30: =H30*F30*G30 -> 0
I31: =H31*F31*G31 -> 0
I32: =H32*F32*G32 -> 0
I33: =H33*F33*G33 -> 0
I34: =H34*F34*G34 -> 0
I35: =H35*F35*G35 -> 0
I36: =H36*F36*G36 -> 0
I37: =H37*F37*G37 -> 0
I38: =H38*F38*G38 -> 0
I39: =H39*F39*G39 -> 0
... I41: =H41*F41*G41 -> 0
B42: subtotaal activiteit 2 | I42: =SUM(I26:I38) -> 0
A46: Naam activiteit | B46: Activiteit 3 | C46: Kostensoort | D46: Salarisschaal (in het geval van personeelskosten) | E46: Omschrijving eenheid (uurtarief etc.) | F46: Aantal (deelnemers, zalen etc.) | G46: Aantal uren | H46: Kosten per eenheid (uurtarief etc.)
B47: subactiviteit
B48: 3. a. | I48: =H48*F48*G48 -> 0
B49: 3. b. | I49: =H49*F49*G49 -> 0
I50: =H50*F50*G50 -> 0
I51: =H51*F51*G51 -> 0
I52: =H52*F52*G52 -> 0
I53: =H53*F53*G53 -> 0
I54: =H54*F54*G54 -> 0
I55: =H55*F55*G55 -> 0
I56: =H56*F56*G56 -> 0
I57: =H57*F57*G57 -> 0
I58: =H58*F58*G58 -> 0
I59: =H59*F59*G59 -> 0
I60: =H60*F60*G60 -> 0
I61: =H61*F61*G61 -> 0
... I63: =H63*F63*G63 -> 0
B64: subtotaal activiteit 3 | I64: =SUM(I48:I60) -> 0
A68: Naam activiteit | B68: Activiteit 4 | C68: Kostensoort | D68: Salarisschaal (in het geval van personeelskosten) | E68: Omschrijving eenheid (uurtarief etc.) | F68: Aantal (deelnemers, zalen etc.) | G68: Aantal uren | H68: Kosten per eenheid (uurtarief etc.)
B69: subactiviteit
B70: 4. a. | I70: =H70*F70*G70 -> 0
B71: 4. b. | I71: =H71*F71*G71 -> 0
I72: =H72*F72*G72 -> 0
I73: =H73*F73*G73 -> 0
I74: =H74*F74*G74 -> 0
I75: =H75*F75*G75 -> 0
I76: =H76*F76*G76 -> 0
I77: =H77*F77*G77 -> 0
I78: =H78*F78*G78 -> 0
I79: =H79*F79*G79 -> 0
I80: =H80*F80*G80 -> 0
I81: =H81*F81*G81 -> 0
I82: =H82*F82*G82 -> 0
I83: =H83*F83*G83 -> 0
... I85: =H85*F85*G85 -> 0
B86: subtotaal activiteit 4 | I86: =SUM(I70:I82) -> 0
A90: Naam activiteit | B90: Activiteit 5 | C90: Kostensoort | D90: Salarisschaal (in het geval van personeelskosten) | E90: Omschrijving eenheid (uurtarief etc.) | F90: Aantal (deelnemers, zalen etc.) | G90: Aantal uren | H90: Kosten per eenheid (uurtarief etc.)
B91: subactiviteit
B92: 5. a. | I92: =H92*F92*G92 -> 0
B93: 5. b. | I93: =H93*F93*G93 -> 0
I94: =H94*F94*G94 -> 0
I95: =H95*F95*G95 -> 0
I96: =H96*F96*G96 -> 0
I97: =H97*F97*G97 -> 0
I98: =H98*F98*G98 -> 0
I99: =H99*F99*G99 -> 0
I100: =H100*F100*G100 -> 0
I101: =H101*F101*G101 -> 0
I102: =H102*F102*G102 -> 0
I103: =H103*F103*G103 -> 0
I104: =H104*F104*G104 -> 0
I105: =H105*F105*G105 -> 0
... I107: =H107*F107*G107 -> 0
B108: subtotaal activiteit 5 | I108: =SUM(I92:I104) -> 0
A112: Naam activiteit | B112: Activiteit 6 | C112: Kostensoort | D112: Salarisschaal (in het geval van personeelskosten) | E112: Omschrijving eenheid (uurtarief etc.) | F112: Aantal (deelnemers, zalen etc.) | G112: Aantal uren | H112: Kosten per eenheid (uurtarief etc.)
B113: subactiviteit
B114: 6. a. | I114: =H114*F114*G114 -> 0
B115: 6. b. | I115: =H115*F115*G115 -> 0
I116: =H116*F116*G116 -> 0
I117: =H117*F117*G117 -> 0
I118: =H118*F118*G118 -> 0
I119: =H119*F119*G119 -> 0
I120: =H120*F120*G120 -> 0
...

Sheet Opleidingsproject 5
A1: OPLEIDINGSPROJECT 5
A2: Naam activiteit | B2: Activiteit 1 | C2: Kostensoort | D2: Salarisschaal + eventueel trede (in het geval van personeelskosten) | E2: Omschrijving eenheid (uurtarief etc.) | F2: Aantal (deelnemers, zalen etc.) | G2: Aantal uren | H2: Kosten per eenheid (uurtarief etc.) | I2: Totale kosten
B3: subactiviteit
B4: 1.a | I4: =H4*F4*G4 -> 0
B5: 1.b. | I5: =H5*F5*G5 -> 0
I6: =H6*F6*G6 -> 0
I7: =H7*F7*G7 -> 0
I8: =H8*F8*G8 -> 0
I9: =H9*F9*G9 -> 0
I10: =H10*F10*G10 -> 0
I11: =H11*F11*G11 -> 0
I12: =H12*F12*G12 -> 0
I13: =H13*F13*G13 -> 0
I14: =H14*F14*G14 -> 0
I15: =H15*F15*G15 -> 0
I16: =H16*F16*G16 -> 0
I17: =H17*F17*G17 -> 0
... I19: =H19*F19*G19 -> 0
B20: subtotaal activiteit 1 | I20: =SUM(I4:I16) -> 0
A24: Naam activiteit | B24: Activiteit 2 | C24: Kostensoort | D24: Salarisschaal (in het geval van personeelskosten) | E24: Omschrijving eenheid (uurtarief etc.) | F24: Aantal (deelnemers, zalen etc.) | G24: Aantal uren | H24: Kosten per eenheid (uurtarief etc.)
B25: subactiviteit
B26: 2. a | I26: =H26*F26*G26 -> 0
B27: 2. b | I27: =H27*F27*G27 -> 0
I28: =H28*F28*G28 -> 0
I29: =H29*F29*G29 -> 0
I30: =H30*F30*G30 -> 0
I31: =H31*F31*G31 -> 0
I32: =H32*F32*G32 -> 0
I33: =H33*F33*G33 -> 0
I34: =H34*F34*G34 -> 0
I35: =H35*F35*G35 -> 0
I36: =H36*F36*G36 -> 0
I37: =H37*F37*G37 -> 0
I38: =H38*F38*G38 -> 0
I39: =H39*F39*G39 -> 0
... I41: =H41*F41*G41 -> 0
B42: subtotaal activiteit 2 | I42: =SUM(I26:I38) -> 0
A46: Naam activiteit | B46: Activiteit 3 | C46: Kostensoort | D46: Salarisschaal (in het geval van personeelskosten) | E46: Omschrijving eenheid (uurtarief etc.) | F46: Aantal (deelnemers, zalen etc.) | G46: Aantal uren | H46: Kosten per eenheid (uurtarief etc.)
B47: subactiviteit
B48: 3. a. | I48: =H48*F48*G48 -> 0
B49: 3. b. | I49: =H49*F49*G49 -> 0
I50: =H50*F50*G50 -> 0
I51: =H51*F51*G51 -> 0
I52: =H52*F52*G52 -> 0
I53: =H53*F53*G53 -> 0
I54: =H54*F54*G54 -> 0
I55: =H55*F55*G55 -> 0
I56: =H56*F56*G56 -> 0
I57: =H57*F57*G57 -> 0
I58: =H58*F58*G58 -> 0
I59: =H59*F59*G59 -> 0
I60: =H60*F60*G60 -> 0
I61: =H61*F61*G61 -> 0
... I63: =H63*F63*G63 -> 0
B64: subtotaal activiteit 3 | I64: =SUM(I48:I60) -> 0
A68: Naam activiteit | B68: Activiteit 4 | C68: Kostensoort | D68: Salarisschaal (in het geval van personeelskosten) | E68: Omschrijving eenheid (uurtarief etc.) | F68: Aantal (deelnemers, zalen etc.) | G68: Aantal uren | H68: Kosten per eenheid (uurtarief etc.)
B69: subactiviteit
B70: 4. a. | I70: =H70*F70*G70 -> 0
B71: 4. b. | I71: =H71*F71*G71 -> 0
I72: =H72*F72*G72 -> 0
I73: =H73*F73*G73 -> 0
I74: =H74*F74*G74 -> 0
I75: =H75*F75*G75 -> 0
I76: =H76*F76*G76 -> 0
I77: =H77*F77*G77 -> 0
I78: =H78*F78*G78 -> 0
I79: =H79*F79*G79 -> 0
I80: =H80*F80*G80 -> 0
I81: =H81*F81*G81 -> 0
I82: =H82*F82*G82 -> 0
I83: =H83*F83*G83 -> 0
... I85: =H85*F85*G85 -> 0
B86: subtotaal activiteit 4 | I86: =SUM(I70:I82) -> 0
A90: Naam activiteit | B90: Activiteit 5 | C90: Kostensoort | D90: Salarisschaal (in het geval van personeelskosten) | E90: Omschrijving eenheid (uurtarief etc.) | F90: Aantal (deelnemers, zalen etc.) | G90: Aantal uren | H90: Kosten per eenheid (uurtarief etc.)
B91: subactiviteit
B92: 5. a. | I92: =H92*F92*G92 -> 0
B93: 5. b. | I93: =H93*F93*G93 -> 0
I94: =H94*F94*G94 -> 0
I95: =H95*F95*G95 -> 0
I96: =H96*F96*G96 -> 0
I97: =H97*F97*G97 -> 0
I98: =H98*F98*G98 -> 0
I99: =H99*F99*G99 -> 0
I100: =H100*F100*G100 -> 0
I101: =H101*F101*G101 -> 0
I102: =H102*F102*G102 -> 0
I103: =H103*F103*G103 -> 0
I104: =H104*F104*G104 -> 0
I105: =H105*F105*G105 -> 0
... I107: =H107*F107*G107 -> 0
B108: subtotaal activiteit 5 | I108: =SUM(I92:I104) -> 0
A112: Naam activiteit | B112: Activiteit 6 | C112: Kostensoort | D112: Salarisschaal (in het geval van personeelskosten) | E112: Omschrijving eenheid (uurtarief etc.) | F112: Aantal (deelnemers, zalen etc.) | G112: Aantal uren | H112: Kosten per eenheid (uurtarief etc.)
B113: subactiviteit
B114: 6. a. | I114: =H114*F114*G114 -> 0
B115: 6. b. | I115: =H115*F115*G115 -> 0
I116: =H116*F116*G116 -> 0
I117: =H117*F117*G117 -> 0
I118: =H118*F118*G118 -> 0
I119: =H119*F119*G119 -> 0
I120: =H120*F120*G120 -> 0
...

Sheet Opleidingsproject 6
A1: OPLEIDINGSPROJECT 6
A2: Naam activiteit | B2: Activiteit 1 | C2: Kostensoort | D2: Salarisschaal + eventueel trede (in het geval van personeelskosten) | E2: Omschrijving eenheid (uurtarief etc.) | F2: Aantal (deelnemers, zalen etc.) | G2: Aantal uren | H2: Kosten per eenheid (uurtarief etc.) | I2: Totale kosten
B3: subactiviteit
B4: 1.a | I4: =H4*F4*G4 -> 0
B5: 1.b. | I5: =H5*F5*G5 -> 0
I6: =H6*F6*G6 -> 0
I7: =H7*F7*G7 -> 0
I8: =H8*F8*G8 -> 0
I9: =H9*F9*G9 -> 0
I10: =H10*F10*G10 -> 0
I11: =H11*F11*G11 -> 0
I12: =H12*F12*G12 -> 0
I13: =H13*F13*G13 -> 0
I14: =H14*F14*G14 -> 0
I15: =H15*F15*G15 -> 0
I16: =H16*F16*G16 -> 0
I17: =H17*F17*G17 -> 0
... I19: =H19*F19*G19 -> 0
B20: subtotaal activiteit 1 | I20: =SUM(I4:I16) -> 0
A24: Naam activiteit | B24: Activiteit 2 | C24: Kostensoort | D24: Salarisschaal (in het geval van personeelskosten) | E24: Omschrijving eenheid (uurtarief etc.) | F24: Aantal (deelnemers, zalen etc.) | G24: Aantal uren | H24: Kosten per eenheid (uurtarief etc.)
B25: subactiviteit
B26: 2. a | I26: =H26*F26*G26 -> 0
B27: 2. b | I27: =H27*F27*G27 -> 0
I28: =H28*F28*G28 -> 0
I29: =H29*F29*G29 -> 0
I30: =H30*F30*G30 -> 0
I31: =H31*F31*G31 -> 0
I32: =H32*F32*G32 -> 0
I33: =H33*F33*G33 -> 0
I34: =H34*F34*G34 -> 0
I35: =H35*F35*G35 -> 0
I36: =H36*F36*G36 -> 0
I37: =H37*F37*G37 -> 0
I38: =H38*F38*G38 -> 0
I39: =H39*F39*G39 -> 0
... I41: =H41*F41*G41 -> 0
B42: subtotaal activiteit 2 | I42: =SUM(I26:I38) -> 0
A46: Naam activiteit | B46: Activiteit 3 | C46: Kostensoort | D46: Salarisschaal (in het geval van personeelskosten) | E46: Omschrijving eenheid (uurtarief etc.) | F46: Aantal (deelnemers, zalen etc.) | G46: Aantal uren | H46: Kosten per eenheid (uurtarief etc.)
B47: subactiviteit
B48: 3. a. | I48: =H48*F48*G48 -> 0
B49: 3. b. | I49: =H49*F49*G49 -> 0
I50: =H50*F50*G50 -> 0
I51: =H51*F51*G51 -> 0
I52: =H52*F52*G52 -> 0
I53: =H53*F53*G53 -> 0
I54: =H54*F54*G54 -> 0
I55: =H55*F55*G55 -> 0
I56: =H56*F56*G56 -> 0
I57: =H57*F57*G57 -> 0
I58: =H58*F58*G58 -> 0
I59: =H59*F59*G59 -> 0
I60: =H60*F60*G60 -> 0
I61: =H61*F61*G61 -> 0
... I63: =H63*F63*G63 -> 0
B64: subtotaal activiteit 3 | I64: =SUM(I48:I60) -> 0
A68: Naam activiteit | B68: Activiteit 4 | C68: Kostensoort | D68: Salarisschaal (in het geval van personeelskosten) | E68: Omschrijving eenheid (uurtarief etc.) | F68: Aantal (deelnemers, zalen etc.) | G68: Aantal uren | H68: Kosten per eenheid (uurtarief etc.)
B69: subactiviteit
B70: 4. a. | I70: =H70*F70*G70 -> 0
B71: 4. b. | I71: =H71*F71*G71 -> 0
I72: =H72*F72*G72 -> 0
I73: =H73*F73*G73 -> 0
I74: =H74*F74*G74 -> 0
I75: =H75*F75*G75 -> 0
I76: =H76*F76*G76 -> 0
I77: =H77*F77*G77 -> 0
I78: =H78*F78*G78 -> 0
I79: =H79*F79*G79 -> 0
I80: =H80*F80*G80 -> 0
I81: =H81*F81*G81 -> 0
I82: =H82*F82*G82 -> 0
I83: =H83*F83*G83 -> 0
... I85: =H85*F85*G85 -> 0
B86: subtotaal activiteit 4 | I86: =SUM(I70:I82) -> 0
A90: Naam activiteit | B90: Activiteit 5 | C90: Kostensoort | D90: Salarisschaal (in het geval van personeelskosten) | E90: Omschrijving eenheid (uurtarief etc.) | F90: Aantal (deelnemers, zalen etc.) | G90: Aantal uren | H90: Kosten per eenheid (uurtarief etc.)
B91: subactiviteit
B92: 5. a. | I92: =H92*F92*G92 -> 0
B93: 5. b. | I93: =H93*F93*G93 -> 0
I94: =H94*F94*G94 -> 0
I95: =H95*F95*G95 -> 0
I96: =H96*F96*G96 -> 0
I97: =H97*F97*G97 -> 0
I98: =H98*F98*G98 -> 0
I99: =H99*F99*G99 -> 0
I100: =H100*F100*G100 -> 0
I101: =H101*F101*G101 -> 0
I102: =H102*F102*G102 -> 0
I103: =H103*F103*G103 -> 0
I104: =H104*F104*G104 -> 0
I105: =H105*F105*G105 -> 0
... I107: =H107*F107*G107 -> 0
B108: subtotaal activiteit 5 | I108: =SUM(I92:I104) -> 0
A112: Naam activiteit | B112: Activiteit 6 | C112: Kostensoort | D112: Salarisschaal (in het geval van personeelskosten) | E112: Omschrijving eenheid (uurtarief etc.) | F112: Aantal (deelnemers, zalen etc.) | G112: Aantal uren | H112: Kosten per eenheid (uurtarief etc.)
B113: subactiviteit
B114: 6. a. | I114: =H114*F114*G114 -> 0
B115: 6. b. | I115: =H115*F115*G115 -> 0
I116: =H116*F116*G116 -> 0
I117: =H117*F117*G117 -> 0
I118: =H118*F118*G118 -> 0
I119: =H119*F119*G119 -> 0
I120: =H120*F120*G120 -> 0
...

Sheet Opleidingsproject 7
A1: OPLEIDINGSPROJECT 7
A2: Naam activiteit | B2: Activiteit 1 | C2: Kostensoort | D2: Salarisschaal + eventueel trede (in het geval van personeelskosten) | E2: Omschrijving eenheid (uurtarief etc.) | F2: Aantal (deelnemers, zalen etc.) | G2: Aantal uren | H2: Kosten per eenheid (uurtarief etc.) | I2: Totale kosten
B3: subactiviteit
B4: 1.a | I4: =H4*F4*G4 -> 0
B5: 1.b. | I5: =H5*F5*G5 -> 0
I6: =H6*F6*G6 -> 0
I7: =H7*F7*G7 -> 0
I8: =H8*F8*G8 -> 0
I9: =H9*F9*G9 -> 0
I10: =H10*F10*G10 -> 0
I11: =H11*F11*G11 -> 0
I12: =H12*F12*G12 -> 0
I13: =H13*F13*G13 -> 0
I14: =H14*F14*G14 -> 0
I15: =H15*F15*G15 -> 0
I16: =H16*F16*G16 -> 0
I17: =H17*F17*G17 -> 0
... I19: =H19*F19*G19 -> 0
B20: subtotaal activiteit 1 | I20: =SUM(I4:I16) -> 0
A24: Naam activiteit | B24: Activiteit 2 | C24: Kostensoort | D24: Salarisschaal (in het geval van personeelskosten) | E24: Omschrijving eenheid (uurtarief etc.) | F24: Aantal (deelnemers, zalen etc.) | G24: Aantal uren | H24: Kosten per eenheid (uurtarief etc.)
B25: subactiviteit
B26: 2. a | I26: =H26*F26*G26 -> 0
B27: 2. b | I27: =H27*F27*G27 -> 0
I28: =H28*F28*G28 -> 0
I29: =H29*F29*G29 -> 0
I30: =H30*F30*G30 -> 0
I31: =H31*F31*G31 -> 0
I32: =H32*F32*G32 -> 0
I33: =H33*F33*G33 -> 0
I34: =H34*F34*G34 -> 0
I35: =H35*F35*G35 -> 0
I36: =H36*F36*G36 -> 0
I37: =H37*F37*G37 -> 0
I38: =H38*F38*G38 -> 0
I39: =H39*F39*G39 -> 0
... I41: =H41*F41*G41 -> 0
B42: subtotaal activiteit 2 | I42: =SUM(I26:I38) -> 0
A46: Naam activiteit | B46: Activiteit 3 | C46: Kostensoort | D46: Salarisschaal (in het geval van personeelskosten) | E46: Omschrijving eenheid (uurtarief etc.) | F46: Aantal (deelnemers, zalen etc.) | G46: Aantal uren | H46: Kosten per eenheid (uurtarief etc.)
B47: subactiviteit
B48: 3. a. | I48: =H48*F48*G48 -> 0
B49: 3. b. | I49: =H49*F49*G49 -> 0
I50: =H50*F50*G50 -> 0
I51: =H51*F51*G51 -> 0
I52: =H52*F52*G52 -> 0
I53: =H53*F53*G53 -> 0
I54: =H54*F54*G54 -> 0
I55: =H55*F55*G55 -> 0
I56: =H56*F56*G56 -> 0
I57: =H57*F57*G57 -> 0
I58: =H58*F58*G58 -> 0
I59: =H59*F59*G59 -> 0
I60: =H60*F60*G60 -> 0
I61: =H61*F61*G61 -> 0
... I63: =H63*F63*G63 -> 0
B64: subtotaal activiteit 3 | I64: =SUM(I48:I60) -> 0
A68: Naam activiteit | B68: Activiteit 4 | C68: Kostensoort | D68: Salarisschaal (in het geval van personeelskosten) | E68: Omschrijving eenheid (uurtarief etc.) | F68: Aantal (deelnemers, zalen etc.) | G68: Aantal uren | H68: Kosten per eenheid (uurtarief etc.)
B69: subactiviteit
B70: 4. a. | I70: =H70*F70*G70 -> 0
B71: 4. b. | I71: =H71*F71*G71 -> 0
I72: =H72*F72*G72 -> 0
I73: =H73*F73*G73 -> 0
I74: =H74*F74*G74 -> 0
I75: =H75*F75*G75 -> 0
I76: =H76*F76*G76 -> 0
I77: =H77*F77*G77 -> 0
I78: =H78*F78*G78 -> 0
I79: =H79*F79*G79 -> 0
I80: =H80*F80*G80 -> 0
I81: =H81*F81*G81 -> 0
I82: =H82*F82*G82 -> 0
I83: =H83*F83*G83 -> 0
... I85: =H85*F85*G85 -> 0
B86: subtotaal activiteit 4 | I86: =SUM(I70:I82) -> 0
A90: Naam activiteit | B90: Activiteit 5 | C90: Kostensoort | D90: Salarisschaal (in het geval van personeelskosten) | E90: Omschrijving eenheid (uurtarief etc.) | F90: Aantal (deelnemers, zalen etc.) | G90: Aantal uren | H90: Kosten per eenheid (uurtarief etc.)
B91: subactiviteit
B92: 5. a. | I92: =H92*F92*G92 -> 0
B93: 5. b. | I93: =H93*F93*G93 -> 0
I94: =H94*F94*G94 -> 0
I95: =H95*F95*G95 -> 0
I96: =H96*F96*G96 -> 0
I97: =H97*F97*G97 -> 0
I98: =H98*F98*G98 -> 0
I99: =H99*F99*G99 -> 0
I100: =H100*F100*G100 -> 0
I101: =H101*F101*G101 -> 0
I102: =H102*F102*G102 -> 0
I103: =H103*F103*G103 -> 0
I104: =H104*F104*G104 -> 0
I105: =H105*F105*G105 -> 0
... I107: =H107*F107*G107 -> 0
B108: subtotaal activiteit 5 | I108: =SUM(I92:I104) -> 0
A112: Naam activiteit | B112: Activiteit 6 | C112: Kostensoort | D112: Salarisschaal (in het geval van personeelskosten) | E112: Omschrijving eenheid (uurtarief etc.) | F112: Aantal (deelnemers, zalen etc.) | G112: Aantal uren | H112: Kosten per eenheid (uurtarief etc.)
B113: subactiviteit
B114: 6. a. | I114: =H114*F114*G114 -> 0
B115: 6. b. | I115: =H115*F115*G115 -> 0
I116: =H116*F116*G116 -> 0
I117: =H117*F117*G117 -> 0
I118: =H118*F118*G118 -> 0
I119: =H119*F119*G119 -> 0
I120: =H120*F120*G120 -> 0
...

Sheet Opleidingsproject 8
A1: OPLEIDINGSPROJECT 8
A2: Naam activiteit | B2: Activiteit 1 | C2: Kostensoort | D2: Salarisschaal + eventueel trede (in het geval van personeelskosten) | E2: Omschrijving eenheid (uurtarief etc.) | F2: Aantal (deelnemers, zalen etc.) | G2: Aantal uren | H2: Kosten per eenheid (uurtarief etc.) | I2: Totale kosten
B3: subactiviteit
B4: 1.a | I4: =H4*F4*G4 -> 0
B5: 1.b. | I5: =H5*F5*G5 -> 0
I6: =H6*F6*G6 -> 0
I7: =H7*F7*G7 -> 0
I8: =H8*F8*G8 -> 0
I9: =H9*F9*G9 -> 0
I10: =H10*F10*G10 -> 0
I11: =H11*F11*G11 -> 0
I12: =H12*F12*G12 -> 0
I13: =H13*F13*G13 -> 0
I14: =H14*F14*G14 -> 0
I15: =H15*F15*G15 -> 0
I16: =H16*F16*G16 -> 0
I17: =H17*F17*G17 -> 0
... I19: =H19*F19*G19 -> 0
B20: subtotaal activiteit 1 | I20: =SUM(I4:I16) -> 0
A24: Naam activiteit | B24: Activiteit 2 | C24: Kostensoort | D24: Salarisschaal (in het geval van personeelskosten) | E24: Omschrijving eenheid (uurtarief etc.) | F24: Aantal (deelnemers, zalen etc.) | G24: Aantal uren | H24: Kosten per eenheid (uurtarief etc.)
B25: subactiviteit
B26: 2. a | I26: =H26*F26*G26 -> 0
B27: 2. b | I27: =H27*F27*G27 -> 0
I28: =H28*F28*G28 -> 0
I29: =H29*F29*G29 -> 0
I30: =H30*F30*G30 -> 0
I31: =H31*F31*G31 -> 0
I32: =H32*F32*G32 -> 0
I33: =H33*F33*G33 -> 0
I34: =H34*F34*G34 -> 0
I35: =H35*F35*G35 -> 0
I36: =H36*F36*G36 -> 0
I37: =H37*F37*G37 -> 0
I38: =H38*F38*G38 -> 0
I39: =H39*F39*G39 -> 0
... I41: =H41*F41*G41 -> 0
B42: subtotaal activiteit 2 | I42: =SUM(I26:I38) -> 0
A46: Naam activiteit | B46: Activiteit 3 | C46: Kostensoort | D46: Salarisschaal (in het geval van personeelskosten) | E46: Omschrijving eenheid (uurtarief etc.) | F46: Aantal (deelnemers, zalen etc.) | G46: Aantal uren | H46: Kosten per eenheid (uurtarief etc.)
B47: subactiviteit
B48: 3. a. | I48: =H48*F48*G48 -> 0
B49: 3. b. | I49: =H49*F49*G49 -> 0
I50: =H50*F50*G50 -> 0
I51: =H51*F51*G51 -> 0
I52: =H52*F52*G52 -> 0
I53: =H53*F53*G53 -> 0
I54: =H54*F54*G54 -> 0
I55: =H55*F55*G55 -> 0
I56: =H56*F56*G56 -> 0
I57: =H57*F57*G57 -> 0
I58: =H58*F58*G58 -> 0
I59: =H59*F59*G59 -> 0
I60: =H60*F60*G60 -> 0
I61: =H61*F61*G61 -> 0
... I63: =H63*F63*G63 -> 0
B64: subtotaal activiteit 3 | I64: =SUM(I48:I60) -> 0
A68: Naam activiteit | B68: Activiteit 4 | C68: Kostensoort | D68: Salarisschaal (in het geval van personeelskosten) | E68: Omschrijving eenheid (uurtarief etc.) | F68: Aantal (deelnemers, zalen etc.) | G68: Aantal uren | H68: Kosten per eenheid (uurtarief etc.)
B69: subactiviteit
B70: 4. a. | I70: =H70*F70*G70 -> 0
B71: 4. b. | I71: =H71*F71*G71 -> 0
I72: =H72*F72*G72 -> 0
I73: =H73*F73*G73 -> 0
I74: =H74*F74*G74 -> 0
I75: =H75*F75*G75 -> 0
I76: =H76*F76*G76 -> 0
I77: =H77*F77*G77 -> 0
I78: =H78*F78*G78 -> 0
I79: =H79*F79*G79 -> 0
I80: =H80*F80*G80 -> 0
I81: =H81*F81*G81 -> 0
I82: =H82*F82*G82 -> 0
I83: =H83*F83*G83 -> 0
... I85: =H85*F85*G85 -> 0
B86: subtotaal activiteit 4 | I86: =SUM(I70:I82) -> 0
A90: Naam activiteit | B90: Activiteit 5 | C90: Kostensoort | D90: Salarisschaal (in het geval van personeelskosten) | E90: Omschrijving eenheid (uurtarief etc.) | F90: Aantal (deelnemers, zalen etc.) | G90: Aantal uren | H90: Kosten per eenheid (uurtarief etc.)
B91: subactiviteit
B92: 5. a. | I92: =H92*F92*G92 -> 0
B93: 5. b. | I93: =H93*F93*G93 -> 0
I94: =H94*F94*G94 -> 0
I95: =H95*F95*G95 -> 0
I96: =H96*F96*G96 -> 0
I97: =H97*F97*G97 -> 0
I98: =H98*F98*G98 -> 0
I99: =H99*F99*G99 -> 0
I100: =H100*F100*G100 -> 0
I101: =H101*F101*G101 -> 0
I102: =H102*F102*G102 -> 0
I103: =H103*F103*G103 -> 0
I104: =H104*F104*G104 -> 0
I105: =H105*F105*G105 -> 0
... I107: =H107*F107*G107 -> 0
B108: subtotaal activiteit 5 | I108: =SUM(I92:I104) -> 0
A112: Naam activiteit | B112: Activiteit 6 | C112: Kostensoort | D112: Salarisschaal (in het geval van personeelskosten) | E112: Omschrijving eenheid (uurtarief etc.) | F112: Aantal (deelnemers, zalen etc.) | G112: Aantal uren | H112: Kosten per eenheid (uurtarief etc.)
B113: subactiviteit
B114: 6. a. | I114: =H114*F114*G114 -> 0
B115: 6. b. | I115: =H115*F115*G115 -> 0
I116: =H116*F116*G116 -> 0
I117: =H117*F117*G117 -> 0
I118: =H118*F118*G118 -> 0
I119: =H119*F119*G119 -> 0
I120: =H120*F120*G120 -> 0
...

Sheet Opleidingsproject 9
A1: OPLEIDINGSPROJECT 9
A2: Naam activiteit | B2: Activiteit 1 | C2: Kostensoort | D2: Salarisschaal + eventueel trede (in het geval van personeelskosten) | E2: Omschrijving eenheid (uurtarief etc.) | F2: Aantal (deelnemers, zalen etc.) | G2: Aantal uren | H2: Kosten per eenheid (uurtarief etc.) | I2: Totale kosten
B3: subactiviteit
B4: 1.a | I4: =H4*F4*G4 -> 0
B5: 1.b. | I5: =H5*F5*G5 -> 0
I6: =H6*F6*G6 -> 0
I7: =H7*F7*G7 -> 0
I8: =H8*F8*G8 -> 0
I9: =H9*F9*G9 -> 0
I10: =H10*F10*G10 -> 0
I11: =H11*F11*G11 -> 0
I12: =H12*F12*G12 -> 0
I13: =H13*F13*G13 -> 0
I14: =H14*F14*G14 -> 0
I15: =H15*F15*G15 -> 0
I16: =H16*F16*G16 -> 0
I17: =H17*F17*G17 -> 0
... I19: =H19*F19*G19 -> 0
B20: subtotaal activiteit 1 | I20: =SUM(I4:I16) -> 0
A24: Naam activiteit | B24: Activiteit 2 | C24: Kostensoort | D24: Salarisschaal (in het geval van personeelskosten) | E24: Omschrijving eenheid (uurtarief etc.) | F24: Aantal (deelnemers, zalen etc.) | G24: Aantal uren | H24: Kosten per eenheid (uurtarief etc.)
B25: subactiviteit
B26: 2. a | I26: =H26*F26*G26 -> 0
B27: 2. b | I27: =H27*F27*G27 -> 0
I28: =H28*F28*G28 -> 0
I29: =H29*F29*G29 -> 0
I30: =H30*F30*G30 -> 0
I31: =H31*F31*G31 -> 0
I32: =H32*F32*G32 -> 0
I33: =H33*F33*G33 -> 0
I34: =H34*F34*G34 -> 0
I35: =H35*F35*G35 -> 0
I36: =H36*F36*G36 -> 0
I37: =H37*F37*G37 -> 0
I38: =H38*F38*G38 -> 0
I39: =H39*F39*G39 -> 0
... I41: =H41*F41*G41 -> 0
B42: subtotaal activiteit 2 | I42: =SUM(I26:I38) -> 0
A46: Naam activiteit | B46: Activiteit 3 | C46: Kostensoort | D46: Salarisschaal (in het geval van personeelskosten) | E46: Omschrijving eenheid (uurtarief etc.) | F46: Aantal (deelnemers, zalen etc.) | G46: Aantal uren | H46: Kosten per eenheid (uurtarief etc.)
B47: subactiviteit
B48: 3. a. | I48: =H48*F48*G48 -> 0
B49: 3. b. | I49: =H49*F49*G49 -> 0
I50: =H50*F50*G50 -> 0
I51: =H51*F51*G51 -> 0
I52: =H52*F52*G52 -> 0
I53: =H53*F53*G53 -> 0
I54: =H54*F54*G54 -> 0
I55: =H55*F55*G55 -> 0
I56: =H56*F56*G56 -> 0
I57: =H57*F57*G57 -> 0
I58: =H58*F58*G58 -> 0
I59: =H59*F59*G59 -> 0
I60: =H60*F60*G60 -> 0
I61: =H61*F61*G61 -> 0
... I63: =H63*F63*G63 -> 0
B64: subtotaal activiteit 3 | I64: =SUM(I48:I60) -> 0
A68: Naam activiteit | B68: Activiteit 4 | C68: Kostensoort | D68: Salarisschaal (in het geval van personeelskosten) | E68: Omschrijving eenheid (uurtarief etc.) | F68: Aantal (deelnemers, zalen etc.) | G68: Aantal uren | H68: Kosten per eenheid (uurtarief etc.)
B69: subactiviteit
B70: 4. a. | I70: =H70*F70*G70 -> 0
B71: 4. b. | I71: =H71*F71*G71 -> 0
I72: =H72*F72*G72 -> 0
I73: =H73*F73*G73 -> 0
I74: =H74*F74*G74 -> 0
I75: =H75*F75*G75 -> 0
I76: =H76*F76*G76 -> 0
I77: =H77*F77*G77 -> 0
I78: =H78*F78*G78 -> 0
I79: =H79*F79*G79 -> 0
I80: =H80*F80*G80 -> 0
I81: =H81*F81*G81 -> 0
I82: =H82*F82*G82 -> 0
I83: =H83*F83*G83 -> 0
... I85: =H85*F85*G85 -> 0
B86: subtotaal activiteit 4 | I86: =SUM(I70:I82) -> 0
A90: Naam activiteit | B90: Activiteit 5 | C90: Kostensoort | D90: Salarisschaal (in het geval van personeelskosten) | E90: Omschrijving eenheid (uurtarief etc.) | F90: Aantal (deelnemers, zalen etc.) | G90: Aantal uren | H90: Kosten per eenheid (uurtarief etc.)
B91: subactiviteit
B92: 5. a. | I92: =H92*F92*G92 -> 0
B93: 5. b. | I93: =H93*F93*G93 -> 0
I94: =H94*F94*G94 -> 0
I95: =H95*F95*G95 -> 0
I96: =H96*F96*G96 -> 0
I97: =H97*F97*G97 -> 0
I98: =H98*F98*G98 -> 0
I99: =H99*F99*G99 -> 0
I100: =H100*F100*G100 -> 0
I101: =H101*F101*G101 -> 0
I102: =H102*F102*G102 -> 0
I103: =H103*F103*G103 -> 0
I104: =H104*F104*G104 -> 0
I105: =H105*F105*G105 -> 0
... I107: =H107*F107*G107 -> 0
B108: subtotaal activiteit 5 | I108: =SUM(I92:I104) -> 0
A112: Naam activiteit | B112: Activiteit 6 | C112: Kostensoort | D112: Salarisschaal (in het geval van personeelskosten) | E112: Omschrijving eenheid (uurtarief etc.) | F112: Aantal (deelnemers, zalen etc.) | G112: Aantal uren | H112: Kosten per eenheid (uurtarief etc.)
B113: subactiviteit
B114: 6. a. | I114: =H114*F114*G114 -> 0
B115: 6. b. | I115: =H115*F115*G115 -> 0
I116: =H116*F116*G116 -> 0
I117: =H117*F117*G117 -> 0
I118: =H118*F118*G118 -> 0
I119: =H119*F119*G119 -> 0
I120: =H120*F120*G120 -> 0
...

Sheet Opleidingsproject 10
A1: OPLEIDINGSPROJECT 10
A2: Naam activiteit | B2: Activiteit 1 | C2: Kostensoort | D2: Salarisschaal + eventueel trede (in het geval van personeelskosten) | E2: Omschrijving eenheid (uurtarief etc.) | F2: Aantal (deelnemers, zalen etc.) | G2: Aantal uren | H2: Kosten per eenheid (uurtarief etc.) | I2: Totale kosten
B3: subactiviteit
B4: 1.a | I4: =H4*F4*G4 -> 0
B5: 1.b. | I5: =H5*F5*G5 -> 0
I6: =H6*F6*G6 -> 0
I7: =H7*F7*G7 -> 0
I8: =H8*F8*G8 -> 0
I9: =H9*F9*G9 -> 0
I10: =H10*F10*G10 -> 0
I11: =H11*F11*G11 -> 0
I12: =H12*F12*G12 -> 0
I13: =H13*F13*G13 -> 0
I14: =H14*F14*G14 -> 0
I15: =H15*F15*G15 -> 0
I16: =H16*F16*G16 -> 0
I17: =H17*F17*G17 -> 0
... I19: =H19*F19*G19 -> 0
B20: subtotaal activiteit 1 | I20: =SUM(I4:I16) -> 0
A24: Naam activiteit | B24: Activiteit 2 | C24: Kostensoort | D24: Salarisschaal (in het geval van personeelskosten) | E24: Omschrijving eenheid (uurtarief etc.) | F24: Aantal (deelnemers, zalen etc.) | G24: Aantal uren | H24: Kosten per eenheid (uurtarief etc.)
B25: subactiviteit
B26: 2. a | I26: =H26*F26*G26 -> 0
B27: 2. b | I27: =H27*F27*G27 -> 0
I28: =H28*F28*G28 -> 0
I29: =H29*F29*G29 -> 0
I30: =H30*F30*G30 -> 0
I31: =H31*F31*G31 -> 0
I32: =H32*F32*G32 -> 0
I33: =H33*F33*G33 -> 0
I34: =H34*F34*G34 -> 0
I35: =H35*F35*G35 -> 0
I36: =H36*F36*G36 -> 0
I37: =H37*F37*G37 -> 0
I38: =H38*F38*G38 -> 0
I39: =H39*F39*G39 -> 0
... I41: =H41*F41*G41 -> 0
B42: subtotaal activiteit 2 | I42: =SUM(I26:I38) -> 0
A46: Naam activiteit | B46: Activiteit 3 | C46: Kostensoort | D46: Salarisschaal (in het geval van personeelskosten) | E46: Omschrijving eenheid (uurtarief etc.) | F46: Aantal (deelnemers, zalen etc.) | G46: Aantal uren | H46: Kosten per eenheid (uurtarief etc.)
B47: subactiviteit
B48: 3. a. | I48: =H48*F48*G48 -> 0
B49: 3. b. | I49: =H49*F49*G49 -> 0
I50: =H50*F50*G50 -> 0
I51: =H51*F51*G51 -> 0
I52: =H52*F52*G52 -> 0
I53: =H53*F53*G53 -> 0
I54: =H54*F54*G54 -> 0
I55: =H55*F55*G55 -> 0
I56: =H56*F56*G56 -> 0
I57: =H57*F57*G57 -> 0
I58: =H58*F58*G58 -> 0
I59: =H59*F59*G59 -> 0
I60: =H60*F60*G60 -> 0
I61: =H61*F61*G61 -> 0
... I63: =H63*F63*G63 -> 0
B64: subtotaal activiteit 3 | I64: =SUM(I48:I60) -> 0
A68: Naam activiteit | B68: Activiteit 4 | C68: Kostensoort | D68: Salarisschaal (in het geval van personeelskosten) | E68: Omschrijving eenheid (uurtarief etc.) | F68: Aantal (deelnemers, zalen etc.) | G68: Aantal uren | H68: Kosten per eenheid (uurtarief etc.)
B69: subactiviteit
B70: 4. a. | I70: =H70*F70*G70 -> 0
B71: 4. b. | I71: =H71*F71*G71 -> 0
I72: =H72*F72*G72 -> 0
I73: =H73*F73*G73 -> 0
I74: =H74*F74*G74 -> 0
I75: =H75*F75*G75 -> 0
I76: =H76*F76*G76 -> 0
I77: =H77*F77*G77 -> 0
I78: =H78*F78*G78 -> 0
I79: =H79*F79*G79 -> 0
I80: =H80*F80*G80 -> 0
I81: =H81*F81*G81 -> 0
I82: =H82*F82*G82 -> 0
I83: =H83*F83*G83 -> 0
... I85: =H85*F85*G85 -> 0
B86: subtotaal activiteit 4 | I86: =SUM(I70:I82) -> 0
A90: Naam activiteit | B90: Activiteit 5 | C90: Kostensoort | D90: Salarisschaal (in het geval van personeelskosten) | E90: Omschrijving eenheid (uurtarief etc.) | F90: Aantal (deelnemers, zalen etc.) | G90: Aantal uren | H90: Kosten per eenheid (uurtarief etc.)
B91: subactiviteit
B92: 5. a. | I92: =H92*F92*G92 -> 0
B93: 5. b. | I93: =H93*F93*G93 -> 0
I94: =H94*F94*G94 -> 0
I95: =H95*F95*G95 -> 0
I96: =H96*F96*G96 -> 0
I97: =H97*F97*G97 -> 0
I98: =H98*F98*G98 -> 0
I99: =H99*F99*G99 -> 0
I100: =H100*F100*G100 -> 0
I101: =H101*F101*G101 -> 0
I102: =H102*F102*G102 -> 0
I103: =H103*F103*G103 -> 0
I104: =H104*F104*G104 -> 0
I105: =H105*F105*G105 -> 0
... I107: =H107*F107*G107 -> 0
B108: subtotaal activiteit 5 | I108: =SUM(I92:I104) -> 0
A112: Naam activiteit | B112: Activiteit 6 | C112: Kostensoort | D112: Salarisschaal (in het geval van personeelskosten) | E112: Omschrijving eenheid (uurtarief etc.) | F112: Aantal (deelnemers, zalen etc.) | G112: Aantal uren | H112: Kosten per eenheid (uurtarief etc.)
B113: subactiviteit
B114: 6. a. | I114: =H114*F114*G114 -> 0
B115: 6. b. | I115: =H115*F115*G115 -> 0
I116: =H116*F116*G116 -> 0
I117: =H117*F117*G117 -> 0
I118: =H118*F118*G118 -> 0
I119: =H119*F119*G119 -> 0
I120: =H120*F120*G120 -> 0
...

Sheet Opleidingsproject 11
A1: OPLEIDINGSPROJECT 11
A2: Naam activiteit | B2: Activiteit 1 | C2: Kostensoort | D2: Salarisschaal + eventueel trede (in het geval van personeelskosten) | E2: Omschrijving eenheid (uurtarief etc.) | F2: Aantal (deelnemers, zalen etc.) | G2: Aantal uren | H2: Kosten per eenheid (uurtarief etc.) | I2: Totale kosten
B3: subactiviteit
B4: 1.a | I4: =H4*F4*G4 -> 0
B5: 1.b. | I5: =H5*F5*G5 -> 0
I6: =H6*F6*G6 -> 0
I7: =H7*F7*G7 -> 0
I8: =H8*F8*G8 -> 0
I9: =H9*F9*G9 -> 0
I10: =H10*F10*G10 -> 0
I11: =H11*F11*G11 -> 0
I12: =H12*F12*G12 -> 0
I13: =H13*F13*G13 -> 0
I14: =H14*F14*G14 -> 0
I15: =H15*F15*G15 -> 0
I16: =H16*F16*G16 -> 0
I17: =H17*F17*G17 -> 0
... I19: =H19*F19*G19 -> 0
B20: subtotaal activiteit 1 | I20: =SUM(I4:I16) -> 0
A24: Naam activiteit | B24: Activiteit 2 | C24: Kostensoort | D24: Salarisschaal (in het geval van personeelskosten) | E24: Omschrijving eenheid (uurtarief etc.) | F24: Aantal (deelnemers, zalen etc.) | G24: Aantal uren | H24: Kosten per eenheid (uurtarief etc.)
B25: subactiviteit
B26: 2. a | I26: =H26*F26*G26 -> 0
B27: 2. b | I27: =H27*F27*G27 -> 0
I28: =H28*F28*G28 -> 0
I29: =H29*F29*G29 -> 0
I30: =H30*F30*G30 -> 0
I31: =H31*F31*G31 -> 0
I32: =H32*F32*G32 -> 0
I33: =H33*F33*G33 -> 0
I34: =H34*F34*G34 -> 0
I35: =H35*F35*G35 -> 0
I36: =H36*F36*G36 -> 0
I37: =H37*F37*G37 -> 0
I38: =H38*F38*G38 -> 0
I39: =H39*F39*G39 -> 0
... I41: =H41*F41*G41 -> 0
B42: subtotaal activiteit 2 | I42: =SUM(I26:I38) -> 0
A46: Naam activiteit | B46: Activiteit 3 | C46: Kostensoort | D46: Salarisschaal (in het geval van personeelskosten) | E46: Omschrijving eenheid (uurtarief etc.) | F46: Aantal (deelnemers, zalen etc.) | G46: Aantal uren | H46: Kosten per eenheid (uurtarief etc.)
B47: subactiviteit
B48: 3. a. | I48: =H48*F48*G48 -> 0
B49: 3. b. | I49: =H49*F49*G49 -> 0
I50: =H50*F50*G50 -> 0
I51: =H51*F51*G51 -> 0
I52: =H52*F52*G52 -> 0
I53: =H53*F53*G53 -> 0
I54: =H54*F54*G54 -> 0
I55: =H55*F55*G55 -> 0
I56: =H56*F56*G56 -> 0
I57: =H57*F57*G57 -> 0
I58: =H58*F58*G58 -> 0
I59: =H59*F59*G59 -> 0
I60: =H60*F60*G60 -> 0
I61: =H61*F61*G61 -> 0
... I63: =H63*F63*G63 -> 0
B64: subtotaal activiteit 3 | I64: =SUM(I48:I60) -> 0
A68: Naam activiteit | B68: Activiteit 4 | C68: Kostensoort | D68: Salarisschaal (in het geval van personeelskosten) | E68: Omschrijving eenheid (uurtarief etc.) | F68: Aantal (deelnemers, zalen etc.) | G68: Aantal uren | H68: Kosten per eenheid (uurtarief etc.)
B69: subactiviteit
B70: 4. a. | I70: =H70*F70*G70 -> 0
B71: 4. b. | I71: =H71*F71*G71 -> 0
I72: =H72*F72*G72 -> 0
I73: =H73*F73*G73 -> 0
I74: =H74*F74*G74 -> 0
I75: =H75*F75*G75 -> 0
I76: =H76*F76*G76 -> 0
I77: =H77*F77*G77 -> 0
I78: =H78*F78*G78 -> 0
I79: =H79*F79*G79 -> 0
I80: =H80*F80*G80 -> 0
I81: =H81*F81*G81 -> 0
I82: =H82*F82*G82 -> 0
I83: =H83*F83*G83 -> 0
... I85: =H85*F85*G85 -> 0
B86: subtotaal activiteit 4 | I86: =SUM(I70:I82) -> 0
A90: Naam activiteit | B90: Activiteit 5 | C90: Kostensoort | D90: Salarisschaal (in het geval van personeelskosten) | E90: Omschrijving eenheid (uurtarief etc.) | F90: Aantal (deelnemers, zalen etc.) | G90: Aantal uren | H90: Kosten per eenheid (uurtarief etc.)
B91: subactiviteit
B92: 5. a. | I92: =H92*F92*G92 -> 0
B93: 5. b. | I93: =H93*F93*G93 -> 0
I94: =H94*F94*G94 -> 0
I95: =H95*F95*G95 -> 0
I96: =H96*F96*G96 -> 0
I97: =H97*F97*G97 -> 0
I98: =H98*F98*G98 -> 0
I99: =H99*F99*G99 -> 0
I100: =H100*F100*G100 -> 0
I101: =H101*F101*G101 -> 0
I102: =H102*F102*G102 -> 0
I103: =H103*F103*G103 -> 0
I104: =H104*F104*G104 -> 0
I105: =H105*F105*G105 -> 0
... I107: =H107*F107*G107 -> 0
B108: subtotaal activiteit 5 | I108: =SUM(I92:I104) -> 0
A112: Naam activiteit | B112: Activiteit 6 | C112: Kostensoort | D112: Salarisschaal (in het geval van personeelskosten) | E112: Omschrijving eenheid (uurtarief etc.) | F112: Aantal (deelnemers, zalen etc.) | G112: Aantal uren | H112: Kosten per eenheid (uurtarief etc.)
B113: subactiviteit
B114: 6. a. | I114: =H114*F114*G114 -> 0
B115: 6. b. | I115: =H115*F115*G115 -> 0
I116: =H116*F116*G116 -> 0
I117: =H117*F117*G117 -> 0
I118: =H118*F118*G118 -> 0
I119: =H119*F119*G119 -> 0
I120: =H120*F120*G120 -> 0
...

Sheet Opleidingsproject 12
A1: OPLEIDINGSPROJECT 12
A2: Naam activiteit | B2: Activiteit 1 | C2: Kostensoort | D2: Salarisschaal + eventueel trede (in het geval van personeelskosten) | E2: Omschrijving eenheid (uurtarief etc.) | F2: Aantal (deelnemers, zalen etc.) | G2: Aantal uren | H2: Kosten per eenheid (uurtarief etc.) | I2: Totale kosten
B3: subactiviteit
B4: 1.a | I4: =H4*F4*G4 -> 0
B5: 1.b. | I5: =H5*F5*G5 -> 0
I6: =H6*F6*G6 -> 0
I7: =H7*F7*G7 -> 0
I8: =H8*F8*G8 -> 0
I9: =H9*F9*G9 -> 0
I10: =H10*F10*G10 -> 0
I11: =H11*F11*G11 -> 0
I12: =H12*F12*G12 -> 0
I13: =H13*F13*G13 -> 0
I14: =H14*F14*G14 -> 0
I15: =H15*F15*G15 -> 0
I16: =H16*F16*G16 -> 0
I17: =H17*F17*G17 -> 0
... I19: =H19*F19*G19 -> 0
B20: subtotaal activiteit 1 | I20: =SUM(I4:I16) -> 0
A24: Naam activiteit | B24: Activiteit 2 | C24: Kostensoort | D24: Salarisschaal (in het geval van personeelskosten) | E24: Omschrijving eenheid (uurtarief etc.) | F24: Aantal (deelnemers, zalen etc.) | G24: Aantal uren | H24: Kosten per eenheid (uurtarief etc.)
B25: subactiviteit
B26: 2. a | I26: =H26*F26*G26 -> 0
B27: 2. b | I27: =H27*F27*G27 -> 0
I28: =H28*F28*G28 -> 0
I29: =H29*F29*G29 -> 0
I30: =H30*F30*G30 -> 0
I31: =H31*F31*G31 -> 0
I32: =H32*F32*G32 -> 0
I33: =H33*F33*G33 -> 0
I34: =H34*F34*G34 -> 0
I35: =H35*F35*G35 -> 0
I36: =H36*F36*G36 -> 0
I37: =H37*F37*G37 -> 0
I38: =H38*F38*G38 -> 0
I39: =H39*F39*G39 -> 0
... I41: =H41*F41*G41 -> 0
B42: subtotaal activiteit 2 | I42: =SUM(I26:I38) -> 0
A46: Naam activiteit | B46: Activiteit 3 | C46: Kostensoort | D46: Salarisschaal (in het geval van personeelskosten) | E46: Omschrijving eenheid (uurtarief etc.) | F46: Aantal (deelnemers, zalen etc.) | G46: Aantal uren | H46: Kosten per eenheid (uurtarief etc.)
B47: subactiviteit
B48: 3. a. | I48: =H48*F48*G48 -> 0
B49: 3. b. | I49: =H49*F49*G49 -> 0
I50: =H50*F50*G50 -> 0
I51: =H51*F51*G51 -> 0
I52: =H52*F52*G52 -> 0
I53: =H53*F53*G53 -> 0
I54: =H54*F54*G54 -> 0
I55: =H55*F55*G55 -> 0
I56: =H56*F56*G56 -> 0
I57: =H57*F57*G57 -> 0
I58: =H58*F58*G58 -> 0
I59: =H59*F59*G59 -> 0
I60: =H60*F60*G60 -> 0
I61: =H61*F61*G61 -> 0
... I63: =H63*F63*G63 -> 0
B64: subtotaal activiteit 3 | I64: =SUM(I48:I60) -> 0
A68: Naam activiteit | B68: Activiteit 4 | C68: Kostensoort | D68: Salarisschaal (in het geval van personeelskosten) | E68: Omschrijving eenheid (uurtarief etc.) | F68: Aantal (deelnemers, zalen etc.) | G68: Aantal uren | H68: Kosten per eenheid (uurtarief etc.)
B69: subactiviteit
B70: 4. a. | I70: =H70*F70*G70 -> 0
B71: 4. b. | I71: =H71*F71*G71 -> 0
I72: =H72*F72*G72 -> 0
I73: =H73*F73*G73 -> 0
I74: =H74*F74*G74 -> 0
I75: =H75*F75*G75 -> 0
I76: =H76*F76*G76 -> 0
I77: =H77*F77*G77 -> 0
I78: =H78*F78*G78 -> 0
I79: =H79*F79*G79 -> 0
I80: =H80*F80*G80 -> 0
I81: =H81*F81*G81 -> 0
I82: =H82*F82*G82 -> 0
I83: =H83*F83*G83 -> 0
... I85: =H85*F85*G85 -> 0
B86: subtotaal activiteit 4 | I86: =SUM(I70:I82) -> 0
A90: Naam activiteit | B90: Activiteit 5 | C90: Kostensoort | D90: Salarisschaal (in het geval van personeelskosten) | E90: Omschrijving eenheid (uurtarief etc.) | F90: Aantal (deelnemers, zalen etc.) | G90: Aantal uren | H90: Kosten per eenheid (uurtarief etc.)
B91: subactiviteit
B92: 5. a. | I92: =H92*F92*G92 -> 0
B93: 5. b. | I93: =H93*F93*G93 -> 0
I94: =H94*F94*G94 -> 0
I95: =H95*F95*G95 -> 0
I96: =H96*F96*G96 -> 0
I97: =H97*F97*G97 -> 0
I98: =H98*F98*G98 -> 0
I99: =H99*F99*G99 -> 0
I100: =H100*F100*G100 -> 0
I101: =H101*F101*G101 -> 0
I102: =H102*F102*G102 -> 0
I103: =H103*F103*G103 -> 0
I104: =H104*F104*G104 -> 0
I105: =H105*F105*G105 -> 0
... I107: =H107*F107*G107 -> 0
B108: subtotaal activiteit 5 | I108: =SUM(I92:I104) -> 0
A112: Naam activiteit | B112: Activiteit 6 | C112: Kostensoort | D112: Salarisschaal (in het geval van personeelskosten) | E112: Omschrijving eenheid (uurtarief etc.) | F112: Aantal (deelnemers, zalen etc.) | G112: Aantal uren | H112: Kosten per eenheid (uurtarief etc.)
B113: subactiviteit
B114: 6. a. | I114: =H114*F114*G114 -> 0
B115: 6. b. | I115: =H115*F115*G115 -> 0
I116: =H116*F116*G116 -> 0
I117: =H117*F117*G117 -> 0
I118: =H118*F118*G118 -> 0
I119: =H119*F119*G119 -> 0
I120: =H120*F120*G120 -> 0
...

Sheet Opleidingsproject 13
A1: OPLEIDINGSPROJECT 13
A2: Naam activiteit | B2: Activiteit 1 | C2: Kostensoort | D2: Salarisschaal + eventueel trede (in het geval van personeelskosten) | E2: Omschrijving eenheid (uurtarief etc.) | F2: Aantal (deelnemers, zalen etc.) | G2: Aantal uren | H2: Kosten per eenheid (uurtarief etc.) | I2: Totale kosten
B3: subactiviteit
B4: 1.a | I4: =H4*F4*G4 -> 0
B5: 1.b. | I5: =H5*F5*G5 -> 0
I6: =H6*F6*G6 -> 0
I7: =H7*F7*G7 -> 0
I8: =H8*F8*G8 -> 0
I9: =H9*F9*G9 -> 0
I10: =H10*F10*G10 -> 0
I11: =H11*F11*G11 -> 0
I12: =H12*F12*G12 -> 0
I13: =H13*F13*G13 -> 0
I14: =H14*F14*G14 -> 0
I15: =H15*F15*G15 -> 0
I16: =H16*F16*G16 -> 0
I17: =H17*F17*G17 -> 0
... I19: =H19*F19*G19 -> 0
B20: subtotaal activiteit 1 | I20: =SUM(I4:I16) -> 0
A24: Naam activiteit | B24: Activiteit 2 | C24: Kostensoort | D24: Salarisschaal (in het geval van personeelskosten) | E24: Omschrijving eenheid (uurtarief etc.) | F24: Aantal (deelnemers, zalen etc.) | G24: Aantal uren | H24: Kosten per eenheid (uurtarief etc.)
B25: subactiviteit
B26: 2. a | I26: =H26*F26*G26 -> 0
B27: 2. b | I27: =H27*F27*G27 -> 0
I28: =H28*F28*G28 -> 0
I29: =H29*F29*G29 -> 0
I30: =H30*F30*G30 -> 0
I31: =H31*F31*G31 -> 0
I32: =H32*F32*G32 -> 0
I33: =H33*F33*G33 -> 0
I34: =H34*F34*G34 -> 0
I35: =H35*F35*G35 -> 0
I36: =H36*F36*G36 -> 0
I37: =H37*F37*G37 -> 0
I38: =H38*F38*G38 -> 0
I39: =H39*F39*G39 -> 0
... I41: =H41*F41*G41 -> 0
B42: subtotaal activiteit 2 | I42: =SUM(I26:I38) -> 0
A46: Naam activiteit | B46: Activiteit 3 | C46: Kostensoort | D46: Salarisschaal (in het geval van personeelskosten) | E46: Omschrijving eenheid (uurtarief etc.) | F46: Aantal (deelnemers, zalen etc.) | G46: Aantal uren | H46: Kosten per eenheid (uurtarief etc.)
B47: subactiviteit
B48: 3. a. | I48: =H48*F48*G48 -> 0
B49: 3. b. | I49: =H49*F49*G49 -> 0
I50: =H50*F50*G50 -> 0
I51: =H51*F51*G51 -> 0
I52: =H52*F52*G52 -> 0
I53: =H53*F53*G53 -> 0
I54: =H54*F54*G54 -> 0
I55: =H55*F55*G55 -> 0
I56: =H56*F56*G56 -> 0
I57: =H57*F57*G57 -> 0
I58: =H58*F58*G58 -> 0
I59: =H59*F59*G59 -> 0
I60: =H60*F60*G60 -> 0
I61: =H61*F61*G61 -> 0
... I63: =H63*F63*G63 -> 0
B64: subtotaal activiteit 3 | I64: =SUM(I48:I60) -> 0
A68: Naam activiteit | B68: Activiteit 4 | C68: Kostensoort | D68: Salarisschaal (in het geval van personeelskosten) | E68: Omschrijving eenheid (uurtarief etc.) | F68: Aantal (deelnemers, zalen etc.) | G68: Aantal uren | H68: Kosten per eenheid (uurtarief etc.)
B69: subactiviteit
B70: 4. a. | I70: =H70*F70*G70 -> 0
B71: 4. b. | I71: =H71*F71*G71 -> 0
I72: =H72*F72*G72 -> 0
I73: =H73*F73*G73 -> 0
I74: =H74*F74*G74 -> 0
I75: =H75*F75*G75 -> 0
I76: =H76*F76*G76 -> 0
I77: =H77*F77*G77 -> 0
I78: =H78*F78*G78 -> 0
I79: =H79*F79*G79 -> 0
I80: =H80*F80*G80 -> 0
I81: =H81*F81*G81 -> 0
I82: =H82*F82*G82 -> 0
I83: =H83*F83*G83 -> 0
... I85: =H85*F85*G85 -> 0
B86: subtotaal activiteit 4 | I86: =SUM(I70:I82) -> 0
A90: Naam activiteit | B90: Activiteit 5 | C90: Kostensoort | D90: Salarisschaal (in het geval van personeelskosten) | E90: Omschrijving eenheid (uurtarief etc.) | F90: Aantal (deelnemers, zalen etc.) | G90: Aantal uren | H90: Kosten per eenheid (uurtarief etc.)
B91: subactiviteit
B92: 5. a. | I92: =H92*F92*G92 -> 0
B93: 5. b. | I93: =H93*F93*G93 -> 0
I94: =H94*F94*G94 -> 0
I95: =H95*F95*G95 -> 0
I96: =H96*F96*G96 -> 0
I97: =H97*F97*G97 -> 0
I98: =H98*F98*G98 -> 0
I99: =H99*F99*G99 -> 0
I100: =H100*F100*G100 -> 0
I101: =H101*F101*G101 -> 0
I102: =H102*F102*G102 -> 0
I103: =H103*F103*G103 -> 0
I104: =H104*F104*G104 -> 0
I105: =H105*F105*G105 -> 0
... I107: =H107*F107*G107 -> 0
B108: subtotaal activiteit 5 | I108: =SUM(I92:I104) -> 0
A112: Naam activiteit | B112: Activiteit 6 | C112: Kostensoort | D112: Salarisschaal (in het geval van personeelskosten) | E112: Omschrijving eenheid (uurtarief etc.) | F112: Aantal (deelnemers, zalen etc.) | G112: Aantal uren | H112: Kosten per eenheid (uurtarief etc.)
B113: subactiviteit
B114: 6. a. | I114: =H114*F114*G114 -> 0
B115: 6. b. | I115: =H115*F115*G115 -> 0
I116: =H116*F116*G116 -> 0
I117: =H117*F117*G117 -> 0
I118: =H118*F118*G118 -> 0
I119: =H119*F119*G119 -> 0
I120: =H120*F120*G120 -> 0
...

Sheet Opleidingsproject 14
A1: OPLEIDINGSPROJECT 14
A2: Naam activiteit | B2: Activiteit 1 | C2: Kostensoort | D2: Salarisschaal + eventueel trede (in het geval van personeelskosten) | E2: Omschrijving eenheid (uurtarief etc.) | F2: Aantal (deelnemers, zalen etc.) | G2: Aantal uren | H2: Kosten per eenheid (uurtarief etc.) | I2: Totale kosten
B3: subactiviteit
B4: 1.a | I4: =H4*F4*G4 -> 0
B5: 1.b. | I5: =H5*F5*G5 -> 0
I6: =H6*F6*G6 -> 0
I7: =H7*F7*G7 -> 0
I8: =H8*F8*G8 -> 0
I9: =H9*F9*G9 -> 0
I10: =H10*F10*G10 -> 0
I11: =H11*F11*G11 -> 0
I12: =H12*F12*G12 -> 0
I13: =H13*F13*G13 -> 0
I14: =H14*F14*G14 -> 0
I15: =H15*F15*G15 -> 0
I16: =H16*F16*G16 -> 0
I17: =H17*F17*G17 -> 0
... I19: =H19*F19*G19 -> 0
B20: subtotaal activiteit 1 | I20: =SUM(I4:I16) -> 0
A24: Naam activiteit | B24: Activiteit 2 | C24: Kostensoort | D24: Salarisschaal (in het geval van personeelskosten) | E24: Omschrijving eenheid (uurtarief etc.) | F24: Aantal (deelnemers, zalen etc.) | G24: Aantal uren | H24: Kosten per eenheid (uurtarief etc.)
B25: subactiviteit
B26: 2. a | I26: =H26*F26*G26 -> 0
B27: 2. b | I27: =H27*F27*G27 -> 0
I28: =H28*F28*G28 -> 0
I29: =H29*F29*G29 -> 0
I30: =H30*F30*G30 -> 0
I31: =H31*F31*G31 -> 0
I32: =H32*F32*G32 -> 0
I33: =H33*F33*G33 -> 0
I34: =H34*F34*G34 -> 0
I35: =H35*F35*G35 -> 0
I36: =H36*F36*G36 -> 0
I37: =H37*F37*G37 -> 0
I38: =H38*F38*G38 -> 0
I39: =H39*F39*G39 -> 0
... I41: =H41*F41*G41 -> 0
B42: subtotaal activiteit 2 | I42: =SUM(I26:I38) -> 0
A46: Naam activiteit | B46: Activiteit 3 | C46: Kostensoort | D46: Salarisschaal (in het geval van personeelskosten) | E46: Omschrijving eenheid (uurtarief etc.) | F46: Aantal (deelnemers, zalen etc.) | G46: Aantal uren | H46: Kosten per eenheid (uurtarief etc.)
B47: subactiviteit
B48: 3. a. | I48: =H48*F48*G48 -> 0
B49: 3. b. | I49: =H49*F49*G49 -> 0
I50: =H50*F50*G50 -> 0
I51: =H51*F51*G51 -> 0
I52: =H52*F52*G52 -> 0
I53: =H53*F53*G53 -> 0
I54: =H54*F54*G54 -> 0
I55: =H55*F55*G55 -> 0
I56: =H56*F56*G56 -> 0
I57: =H57*F57*G57 -> 0
I58: =H58*F58*G58 -> 0
I59: =H59*F59*G59 -> 0
I60: =H60*F60*G60 -> 0
I61: =H61*F61*G61 -> 0
... I63: =H63*F63*G63 -> 0
B64: subtotaal activiteit 3 | I64: =SUM(I48:I60) -> 0
A68: Naam activiteit | B68: Activiteit 4 | C68: Kostensoort | D68: Salarisschaal (in het geval van personeelskosten) | E68: Omschrijving eenheid (uurtarief etc.) | F68: Aantal (deelnemers, zalen etc.) | G68: Aantal uren | H68: Kosten per eenheid (uurtarief etc.)
B69: subactiviteit
B70: 4. a. | I70: =H70*F70*G70 -> 0
B71: 4. b. | I71: =H71*F71*G71 -> 0
I72: =H72*F72*G72 -> 0
I73: =H73*F73*G73 -> 0
I74: =H74*F74*G74 -> 0
I75: =H75*F75*G75 -> 0
I76: =H76*F76*G76 -> 0
I77: =H77*F77*G77 -> 0
I78: =H78*F78*G78 -> 0
I79: =H79*F79*G79 -> 0
I80: =H80*F80*G80 -> 0
I81: =H81*F81*G81 -> 0
I82: =H82*F82*G82 -> 0
I83: =H83*F83*G83 -> 0
... I85: =H85*F85*G85 -> 0
B86: subtotaal activiteit 4 | I86: =SUM(I70:I82) -> 0
A90: Naam activiteit | B90: Activiteit 5 | C90: Kostensoort | D90: Salarisschaal (in het geval van personeelskosten) | E90: Omschrijving eenheid (uurtarief etc.) | F90: Aantal (deelnemers, zalen etc.) | G90: Aantal uren | H90: Kosten per eenheid (uurtarief etc.)
B91: subactiviteit
B92: 5. a. | I92: =H92*F92*G92 -> 0
B93: 5. b. | I93: =H93*F93*G93 -> 0
I94: =H94*F94*G94 -> 0
I95: =H95*F95*G95 -> 0
I96: =H96*F96*G96 -> 0
I97: =H97*F97*G97 -> 0
I98: =H98*F98*G98 -> 0
I99: =H99*F99*G99 -> 0
I100: =H100*F100*G100 -> 0
I101: =H101*F101*G101 -> 0
I102: =H102*F102*G102 -> 0
I103: =H103*F103*G103 -> 0
I104: =H104*F104*G104 -> 0
I105: =H105*F105*G105 -> 0
... I107: =H107*F107*G107 -> 0
B108: subtotaal activiteit 5 | I108: =SUM(I92:I104) -> 0
A112: Naam activiteit | B112: Activiteit 6 | C112: Kostensoort | D112: Salarisschaal (in het geval van personeelskosten) | E112: Omschrijving eenheid (uurtarief etc.) | F112: Aantal (deelnemers, zalen etc.) | G112: Aantal uren | H112: Kosten per eenheid (uurtarief etc.)
B113: subactiviteit
B114: 6. a. | I114: =H114*F114*G114 -> 0
B115: 6. b. | I115: =H115*F115*G115 -> 0
I116: =H116*F116*G116 -> 0
I117: =H117*F117*G117 -> 0
I118: =H118*F118*G118 -> 0
I119: =H119*F119*G119 -> 0
I120: =H120*F120*G120 -> 0
...

Sheet Opleidingsproject 15
A1: OPLEIDINGSPROJECT 15
A2: Naam activiteit | B2: Activiteit 1 | C2: Kostensoort | D2: Salarisschaal + eventueel trede (in het geval van personeelskosten) | E2: Omschrijving eenheid (uurtarief etc.) | F2: Aantal (deelnemers, zalen etc.) | G2: Aantal uren | H2: Kosten per eenheid (uurtarief etc.) | I2: Totale kosten
B3: subactiviteit
B4: 1.a | I4: =H4*F4*G4 -> 0
B5: 1.b. | I5: =H5*F5*G5 -> 0
I6: =H6*F6*G6 -> 0
I7: =H7*F7*G7 -> 0
I8: =H8*F8*G8 -> 0
I9: =H9*F9*G9 -> 0
I10: =H10*F10*G10 -> 0
I11: =H11*F11*G11 -> 0
I12: =H12*F12*G12 -> 0
I13: =H13*F13*G13 -> 0
I14: =H14*F14*G14 -> 0
I15: =H15*F15*G15 -> 0
I16: =H16*F16*G16 -> 0
I17: =H17*F17*G17 -> 0
... I19: =H19*F19*G19 -> 0
B20: subtotaal activiteit 1 | I20: =SUM(I4:I16) -> 0
A24: Naam activiteit | B24: Activiteit 2 | C24: Kostensoort | D24: Salarisschaal (in het geval van personeelskosten) | E24: Omschrijving eenheid (uurtarief etc.) | F24: Aantal (deelnemers, zalen etc.) | G24: Aantal uren | H24: Kosten per eenheid (uurtarief etc.)
B25: subactiviteit
B26: 2. a | I26: =H26*F26*G26 -> 0
B27: 2. b | I27: =H27*F27*G27 -> 0
I28: =H28*F28*G28 -> 0
I29: =H29*F29*G29 -> 0
I30: =H30*F30*G30 -> 0
I31: =H31*F31*G31 -> 0
I32: =H32*F32*G32 -> 0
I33: =H33*F33*G33 -> 0
I34: =H34*F34*G34 -> 0
I35: =H35*F35*G35 -> 0
I36: =H36*F36*G36 -> 0
I37: =H37*F37*G37 -> 0
I38: =H38*F38*G38 -> 0
I39: =H39*F39*G39 -> 0
... I41: =H41*F41*G41 -> 0
B42: subtotaal activiteit 2 | I42: =SUM(I26:I38) -> 0
A46: Naam activiteit | B46: Activiteit 3 | C46: Kostensoort | D46: Salarisschaal (in het geval van personeelskosten) | E46: Omschrijving eenheid (uurtarief etc.) | F46: Aantal (deelnemers, zalen etc.) | G46: Aantal uren | H46: Kosten per eenheid (uurtarief etc.)
B47: subactiviteit
B48: 3. a. | I48: =H48*F48*G48 -> 0
B49: 3. b. | I49: =H49*F49*G49 -> 0
I50: =H50*F50*G50 -> 0
I51: =H51*F51*G51 -> 0
I52: =H52*F52*G52 -> 0
I53: =H53*F53*G53 -> 0
I54: =H54*F54*G54 -> 0
I55: =H55*F55*G55 -> 0
I56: =H56*F56*G56 -> 0
I57: =H57*F57*G57 -> 0
I58: =H58*F58*G58 -> 0
I59: =H59*F59*G59 -> 0
I60: =H60*F60*G60 -> 0
I61: =H61*F61*G61 -> 0
... I63: =H63*F63*G63 -> 0
B64: subtotaal activiteit 3 | I64: =SUM(I48:I60) -> 0
A68: Naam activiteit | B68: Activiteit 4 | C68: Kostensoort | D68: Salarisschaal (in het geval van personeelskosten) | E68: Omschrijving eenheid (uurtarief etc.) | F68: Aantal (deelnemers, zalen etc.) | G68: Aantal uren | H68: Kosten per eenheid (uurtarief etc.)
B69: subactiviteit
B70: 4. a. | I70: =H70*F70*G70 -> 0
B71: 4. b. | I71: =H71*F71*G71 -> 0
I72: =H72*F72*G72 -> 0
I73: =H73*F73*G73 -> 0
I74: =H74*F74*G74 -> 0
I75: =H75*F75*G75 -> 0
I76: =H76*F76*G76 -> 0
I77: =H77*F77*G77 -> 0
I78: =H78*F78*G78 -> 0
I79: =H79*F79*G79 -> 0
I80: =H80*F80*G80 -> 0
I81: =H81*F81*G81 -> 0
I82: =H82*F82*G82 -> 0
I83: =H83*F83*G83 -> 0
... I85: =H85*F85*G85 -> 0
B86: subtotaal activiteit 4 | I86: =SUM(I70:I82) -> 0
A90: Naam activiteit | B90: Activiteit 5 | C90: Kostensoort | D90: Salarisschaal (in het geval van personeelskosten) | E90: Omschrijving eenheid (uurtarief etc.) | F90: Aantal (deelnemers, zalen etc.) | G90: Aantal uren | H90: Kosten per eenheid (uurtarief etc.)
B91: subactiviteit
B92: 5. a. | I92: =H92*F92*G92 -> 0
B93: 5. b. | I93: =H93*F93*G93 -> 0
I94: =H94*F94*G94 -> 0
I95: =H95*F95*G95 -> 0
I96: =H96*F96*G96 -> 0
I97: =H97*F97*G97 -> 0
I98: =H98*F98*G98 -> 0
I99: =H99*F99*G99 -> 0
I100: =H100*F100*G100 -> 0
I101: =H101*F101*G101 -> 0
I102: =H102*F102*G102 -> 0
I103: =H103*F103*G103 -> 0
I104: =H104*F104*G104 -> 0
I105: =H105*F105*G105 -> 0
... I107: =H107*F107*G107 -> 0
B108: subtotaal activiteit 5 | I108: =SUM(I92:I104) -> 0
A112: Naam activiteit | B112: Activiteit 6 | C112: Kostensoort | D112: Salarisschaal (in het geval van personeelskosten) | E112: Omschrijving eenheid (uurtarief etc.) | F112: Aantal (deelnemers, zalen etc.) | G112: Aantal uren | H112: Kosten per eenheid (uurtarief etc.)
B113: subactiviteit
B114: 6. a. | I114: =H114*F114*G114 -> 0
B115: 6. b. | I115: =H115*F115*G115 -> 0
I116: =H116*F116*G116 -> 0
I117: =H117*F117*G117 -> 0
I118: =H118*F118*G118 -> 0
I119: =H119*F119*G119 -> 0
I120: =H120*F120*G120 -> 0
...
